



BEGIN:VCALENDAR
VERSION:2.0
PRODID:-//Seattle Atheist Church - ECPv6.15.17//NONSGML v1.0//EN
CALSCALE:GREGORIAN
METHOD:PUBLISH
X-ORIGINAL-URL:https://seattleatheist.church
X-WR-CALDESC:Events for Seattle Atheist Church
REFRESH-INTERVAL;VALUE=DURATION:PT1H
X-Robots-Tag:noindex
X-PUBLISHED-TTL:PT1H
BEGIN:VTIMEZONE
TZID:America/Los_Angeles
BEGIN:DAYLIGHT
TZOFFSETFROM:-0800
TZOFFSETTO:-0700
TZNAME:PDT
DTSTART:20250309T100000
END:DAYLIGHT
BEGIN:STANDARD
TZOFFSETFROM:-0700
TZOFFSETTO:-0800
TZNAME:PST
DTSTART:20251102T090000
END:STANDARD
BEGIN:DAYLIGHT
TZOFFSETFROM:-0800
TZOFFSETTO:-0700
TZNAME:PDT
DTSTART:20260308T100000
END:DAYLIGHT
BEGIN:STANDARD
TZOFFSETFROM:-0700
TZOFFSETTO:-0800
TZNAME:PST
DTSTART:20261101T090000
END:STANDARD
BEGIN:DAYLIGHT
TZOFFSETFROM:-0800
TZOFFSETTO:-0700
TZNAME:PDT
DTSTART:20270314T100000
END:DAYLIGHT
BEGIN:STANDARD
TZOFFSETFROM:-0700
TZOFFSETTO:-0800
TZNAME:PST
DTSTART:20271107T090000
END:STANDARD
END:VTIMEZONE
BEGIN:VEVENT
DTSTART;TZID=America/Los_Angeles:20260315T120000
DTEND;TZID=America/Los_Angeles:20260315T133000
DTSTAMP:20260425T115216
CREATED:20260306T234316Z
LAST-MODIFIED:20260306T234316Z
UID:230-1773576000-1773581400@seattleatheist.church
SUMMARY:Online Service: 5-Minute Speed Talks
DESCRIPTION:This week is our popular Speed Talks event! Three to five speakers get 5-8 minutes each to expound their ideas\, followed by our group discussion period where the community react to the ideas presented\, discuss their own thoughts on the topic\, and ask questions of the presenters.\n \nIf you have an idea for a talk\, but you’re not sure you can go for a full 20-30 minutes\, this is for you!\n \nIf you’d like to sign up to give a 5-Minute Speed Talk\, let us know using this form:\nhttps://forms.gle/cdz869YYQDDLBvb87\n \nThis week's speaker will be various volunteers. \nAfter the talk\, we’ll have a group discussion to explore the ideas presented\, and to share related thoughts\, resources\, and personal experiences. \nThis is an online event hosted on Zoom. You can register for it here:\nhttps://us06web.zoom.us/j/82392633644?pwd=7Pk8EjeT0ktls5SHCkagcsWfnJN7DP.1
URL:https://seattleatheist.church/event/online-service-5-minute-speed-talks/
END:VEVENT
END:VCALENDAR